Workbook

Sheet Cabeças
B8: E-mail: inspecao@mail.consorciovaledoriocuiaba.com.br - SITE: consorciovaledoriocuiaba.com.br - CNPJ 07.950.742/0001-27 SISTEMA DE INSPEÇÃO MUNICIPAL VIA CONSÓRCIO.
B9: S.I.M.
B10: Município:
B11: Mês/ano:
C13: MAPA NOSOGRÁFICO DE CARCAÇAS/VÍSCERAS DE BOVINOS
D14: Cabeças
B15: Dia | C15: Nº de bovinos abatidos | D15: Abscesso | E15: Actinobacilose | F15: Actinomicose | G15: Adenite | H15: Cisticercose calcificada | I15: Cisticercose viva | J15: Contaminação | K15: Contusão | L15: Linfadenite | M15: Miíase | N15: Neoplasia | O15: Tuberculose calcificada | P15: Tuberculose caseosa
B16: 1
B17: 2
B18: 3
B19: 4
B20: 5
B21: 6
B22: 7
B23: 8
B24: 9
B25: 10
B26: 11
B27: 12
... B46: 31
B47: Subtotal | D47: 0 | E47: 0 | F47: 0 | G47: 0 | H47: 0 | I47: 0 | J47: 0 | K47: 0 | L47: 0 | M47: 0 | N47: 0 | O47: =SUM(O16:O46) -> 0 | P47: 0
B48: Total | C48: 0 | D48: 0

Sheet Língua
B7: E-mail: inspecao@mail.consorciovaledoriocuiaba.com.br - SITE: consorciovaledoriocuiaba.com.br - CNPJ 07.950.742/0001-27 SISTEMA DE INSPEÇÃO MUNICIPAL VIA CONSÓRCIO.
B8: S.I.M. | C8: =Cabeças!C9 -> 0
B9: Município: | C9: =Cabeças!C10 -> 0
B10: Mês/ano: | C10: =Cabeças!C11 -> 0
C12: MAPA NOSOGRÁFICO DE CARCAÇAS/VÍSCERAS DE BOVINOS
C13: Línguas
B14: Dia | C14: Nº de bovinos abatidos | D14: Abscesso | E14: Actinobacilose | F14: Actinomicose | G14: Adenite | H14: Cisticercose calcificada | I14: Cisticercose viva | J14: Contaminação | K14: Contusão | L14: Estomatite | M14: Glossite | N14: Linfadenite | O14: Miíase | P14: Tuberculose calcificada | Q14: Tuberculose caseosa
B15: 1 | C15: =Cabeças!C16 -> 0
B16: 2 | C16: =Cabeças!C17 -> 0
B17: 3 | C17: =Cabeças!C18 -> 0
B18: 4 | C18: =Cabeças!C19 -> 0
B19: 5 | C19: =Cabeças!C20 -> 0
B20: 6 | C20: =Cabeças!C21 -> 0
B21: 7 | C21: =Cabeças!C22 -> 0
B22: 8 | C22: =Cabeças!C23 -> 0
B23: 9 | C23: =Cabeças!C24 -> 0
B24: 10 | C24: =Cabeças!C25 -> 0
B25: 11 | C25: =Cabeças!C26 -> 0
B26: 12 | C26: =Cabeças!C27 -> 0
... B45: 31 | C45: =Cabeças!C46 -> 0
B46: Subtotal | D46: =SUM(D15:D45) -> 0 | E46: =SUM(E15:E45) -> 0 | F46: =SUM(F15:F45) -> 0 | G46: =SUM(G15:G45) -> 0 | H46: =SUM(H15:H45) -> 0 | I46: =SUM(I15:I45) -> 0 | J46: =SUM(J15:J45) -> 0 | K46: =SUM(K15:K45) -> 0 | ... Q46: =SUM(Q15:Q45) -> 0
B47: Total | C47: =SUM(C15:C45) -> 0 | D47: =SUM(D46:Q46) -> 0

Sheet Pulmão
B7: E-mail: inspecao@mail.consorciovaledoriocuiaba.com.br - SITE: consorciovaledoriocuiaba.com.br - CNPJ 07.950.742/0001-27 SISTEMA DE INSPEÇÃO MUNICIPAL VIA CONSÓRCIO.
B8: S.I.M. | C8: =Cabeças!C9 -> 0
B9: Município: | C9: =Cabeças!C10 -> 0
B10: Mês/ano: | C10: =Cabeças!C11 -> 0
C12: MAPA NOSOGRÁFICO DE CARCAÇAS/VÍSCERAS DE BOVINOS
C13: Pulmões
B14: Dia | C14: Nº de bovinos abatidos | D14: Abscesso | E14: Aderência da pleura | F14: Aspiração | G14: Atelectasia | H14: Bronquiectasia | I14: Bronquite | J14: Congestão | K14: Contaminação | L14: Enfisematose | M14: Linfadenite | N14: Neoplasia | O14: Pneumonia | P14: Pleurite | Q14: Tuberculose calcificada | R14: Tuberculose caseosa
B15: 1 | C15: =Cabeças!C16 -> 0
B16: 2 | C16: =Cabeças!C17 -> 0
B17: 3 | C17: =Cabeças!C18 -> 0
B18: 4 | C18: =Cabeças!C19 -> 0
B19: 5 | C19: =Cabeças!C20 -> 0
B20: 6 | C20: =Cabeças!C21 -> 0
B21: 7 | C21: =Cabeças!C22 -> 0
B22: 8 | C22: =Cabeças!C23 -> 0
B23: 9 | C23: =Cabeças!C24 -> 0
B24: 10 | C24: =Cabeças!C25 -> 0
B25: 11 | C25: =Cabeças!C26 -> 0
B26: 12 | C26: =Cabeças!C27 -> 0
... B45: 31 | C45: =Cabeças!C46 -> 0
B46: Subtotal | D46: =SUM(D15:D45) -> 0 | E46: =SUM(E15:E45) -> 0 | F46: =SUM(F15:F45) -> 0 | G46: =SUM(G15:G45) -> 0 | H46: =SUM(H15:H45) -> 0 | I46: =SUM(I15:I45) -> 0 | J46: =SUM(J15:J45) -> 0 | K46: =SUM(K15:K45) -> 0 | ... R46: =SUM(R15:R45) -> 0
B47: Total | C47: =SUM(C15:C45) -> 0 | D47: =SUM(D46:R46) -> 0

Sheet Corações
B7: E-mail: inspecao@mail.consorciovaledoriocuiaba.com.br - SITE: consorciovaledoriocuiaba.com.br - CNPJ 07.950.742/0001-27 SISTEMA DE INSPEÇÃO MUNICIPAL VIA CONSÓRCIO.
B8: S.I.M. | C8: =Cabeças!C9 -> 0
B9: Município: | C9: =Cabeças!C10 -> 0
B10: Mês/ano: | C10: =Cabeças!C11 -> 0
C12: MAPA NOSOGRÁFICO DE CARCAÇAS/VÍSCERAS DE BOVINOS
C13: Corações
B14: Dia | C14: Nº de bovinos abatidos | D14: Aderência Pericárdio | E14: Cisticercose Calcificada | F14: Cisticercose Viva | G14: Endocardite | H14: Congestão | I14: Contaminação | J14: Miocardite | K14: Pericardite
B15: 1 | C15: =Cabeças!C16 -> 0
B16: 2 | C16: =Cabeças!C17 -> 0
B17: 3 | C17: =Cabeças!C18 -> 0
B18: 4 | C18: =Cabeças!C19 -> 0
B19: 5 | C19: =Cabeças!C20 -> 0
B20: 6 | C20: =Cabeças!C21 -> 0
B21: 7 | C21: =Cabeças!C22 -> 0
B22: 8 | C22: =Cabeças!C23 -> 0
B23: 9 | C23: =Cabeças!C24 -> 0
B24: 10 | C24: =Cabeças!C25 -> 0
B25: 11 | C25: =Cabeças!C26 -> 0
B26: 12 | C26: =Cabeças!C27 -> 0
... B45: 31 | C45: =Cabeças!C46 -> 0
B46: Subtotal | D46: =SUM(D15:D45) -> 0 | E46: =SUM(E15:E45) -> 0 | F46: =SUM(F15:F45) -> 0 | G46: =SUM(G15:G45) -> 0 | H46: =SUM(H15:H45) -> 0 | I46: =SUM(I15:I45) -> 0 | J46: =SUM(J15:J45) -> 0 | K46: =SUM(K15:K45) -> 0
B47: Total | C47: =SUM(C15:C45) -> 0 | D47: =SUM(D46:K46) -> 0

Sheet Rins e Bexiga
B7: E-mail: inspecao@mail.consorciovaledoriocuiaba.com.br - SITE: consorciovaledoriocuiaba.com.br - CNPJ 07.950.742/0001-27 SISTEMA DE INSPEÇÃO MUNICIPAL VIA CONSÓRCIO.
B8: S.I.M. | C8: =Cabeças!C9 -> 0
B9: Município: | C9: =Cabeças!C10 -> 0
B10: Mês/ano: | C10: =Cabeças!C11 -> 0
C12: MAPA NOSOGRÁFICO DE CARCAÇAS/VÍSCERAS DE BOVINOS
C13: Rins | M13: Bexiga | P13: Útero
B14: Dia | C14: Nº de bovinos abatidos | D14: Abscesso | E14: Cisto Urinário | F14: Congestão Renal | G14: Hidronefrose | H14: Infarto Anêmico | I14: Linfadenite | J14: Nefrite | K14: Neoplasia | L14: Uronefrose | M14: Abscesso | N14: Congestão | O14: Neoplasia | P14: Gestação | Q14: Metrite | R14: Neoplasia
B15: 1 | C15: =Cabeças!C16 -> 0
B16: 2 | C16: =Cabeças!C17 -> 0
B17: 3 | C17: =Cabeças!C18 -> 0
B18: 4 | C18: =Cabeças!C19 -> 0
B19: 5 | C19: =Cabeças!C20 -> 0
B20: 6 | C20: =Cabeças!C21 -> 0
B21: 7 | C21: =Cabeças!C22 -> 0
B22: 8 | C22: =Cabeças!C23 -> 0
B23: 9 | C23: =Cabeças!C24 -> 0
B24: 10 | C24: =Cabeças!C25 -> 0
B25: 11 | C25: =Cabeças!C26 -> 0
B26: 12 | C26: =Cabeças!C27 -> 0
... B45: 31 | C45: =Cabeças!C46 -> 0
B46: Subtotal | D46: =SUM(D15:D45) -> 0 | E46: =SUM(E15:E45) -> 0 | F46: =SUM(F15:F45) -> 0 | G46: =SUM(G15:G45) -> 0 | H46: =SUM(H15:H45) -> 0 | I46: =SUM(I15:I45) -> 0 | J46: =SUM(J15:J45) -> 0 | K46: =SUM(K15:K45) -> 0 | ... R46: =SUM(R15:R45) -> 0
B47: Total | C47: =SUM(C15:C45) -> 0 | D47: =SUM(D46:L46) -> 0 | M47: =SUM(M46:O46) -> 0 | P47: =SUM(P46:R46) -> 0

Sheet Fígado
B7: E-mail: inspecao@mail.consorciovaledoriocuiaba.com.br - SITE: consorciovaledoriocuiaba.com.br - CNPJ 07.950.742/0001-27 SISTEMA DE INSPEÇÃO MUNICIPAL VIA CONSÓRCIO.
B8: S.I.M. | C8: =Cabeças!C9 -> 0
B9: Município: | C9: =Cabeças!C10 -> 0
B10: Mês/ano: | C10: =Cabeças!C11 -> 0
C12: MAPA NOSOGRÁFICO DE CARCAÇAS/VÍSCERAS DE BOVINOS
C13: Fígado
B14: Dia | C14: Nº de bovinos abatidos | D14: Abscesso | E14: Cirrose | F14: Congestão | G14: Contaminação | H14: Esteatose | I14: Fasciolose | J14: Hepatite | K14: Hidatidose | L14: Linfadenite | M14: Neoplasia | N14: Telangiectasia | O14: Tuberculose calcificada | P14: Tuberculose caseosa
B15: 1 | C15: =Cabeças!C16 -> 0
B16: 2 | C16: =Cabeças!C17 -> 0
B17: 3 | C17: =Cabeças!C18 -> 0
B18: 4 | C18: =Cabeças!C19 -> 0
B19: 5 | C19: =Cabeças!C20 -> 0
B20: 6 | C20: =Cabeças!C21 -> 0
B21: 7 | C21: =Cabeças!C22 -> 0
B22: 8 | C22: =Cabeças!C23 -> 0
B23: 9 | C23: =Cabeças!C24 -> 0
B24: 10 | C24: =Cabeças!C25 -> 0
B25: 11 | C25: =Cabeças!C26 -> 0
B26: 12 | C26: =Cabeças!C27 -> 0
... B45: 31 | C45: =Cabeças!C46 -> 0
B46: Subtotal | D46: =SUM(D15:D45) -> 0 | E46: =SUM(E15:E45) -> 0 | F46: =SUM(F15:F45) -> 0 | G46: =SUM(G15:G45) -> 0 | H46: =SUM(H15:H45) -> 0 | I46: =SUM(I15:I45) -> 0 | J46: =SUM(J15:J45) -> 0 | K46: =SUM(K15:K45) -> 0 | ... P46: =SUM(P15:P45) -> 0
B47: Total | C47: =SUM(C15:C45) -> 0 | D47: =SUM(D46:P46) -> 0

Sheet Intestinos
B7: E-mail: inspecao@mail.consorciovaledoriocuiaba.com.br - SITE: consorciovaledoriocuiaba.com.br - CNPJ 07.950.742/0001-27 SISTEMA DE INSPEÇÃO MUNICIPAL VIA CONSÓRCIO.
B8: S.I.M. | C8: =Cabeças!C9 -> 0
B9: Município: | C9: =Cabeças!C10 -> 0
B10: Mês/ano: | C10: =Cabeças!C11 -> 0
C12: MAPA NOSOGRÁFICO DE CARCAÇAS/VÍSCERAS DE BOVINOS
C13: Intestinos
B14: Dia | C14: Nº de bovinos abatidos | D14: Congestão | E14: Contaminação | F14: Esofagostomose | G14: Evisceração retardada | H14: Linfadenite | I14: Tuberculose calcificada | J14: Tuberculose caseosa
B15: 1 | C15: =Cabeças!C16 -> 0
B16: 2 | C16: =Cabeças!C17 -> 0
B17: 3 | C17: =Cabeças!C18 -> 0
B18: 4 | C18: =Cabeças!C19 -> 0
B19: 5 | C19: =Cabeças!C20 -> 0
B20: 6 | C20: =Cabeças!C21 -> 0
B21: 7 | C21: =Cabeças!C22 -> 0
B22: 8 | C22: =Cabeças!C23 -> 0
B23: 9 | C23: =Cabeças!C24 -> 0
B24: 10 | C24: =Cabeças!C25 -> 0
B25: 11 | C25: =Cabeças!C26 -> 0
B26: 12 | C26: =Cabeças!C27 -> 0
... B45: 31 | C45: =Cabeças!C46 -> 0
B46: Subtotal | D46: =SUM(D15:D45) -> 0 | E46: =SUM(E15:E45) -> 0 | F46: =SUM(F15:F45) -> 0 | G46: =SUM(G15:G45) -> 0 | H46: =SUM(H15:H45) -> 0 | I46: =SUM(I15:I45) -> 0 | J46: =SUM(J15:J45) -> 0
B47: Total | C47: =SUM(C15:C45) -> 0 | D47: =SUM(D46:J46) -> 0

Sheet Estômagos Pâncreas Mocotós Úter
B7: E-mail: inspecao@mail.consorciovaledoriocuiaba.com.br - SITE: consorciovaledoriocuiaba.com.br - CNPJ 07.950.742/0001-27 SISTEMA DE INSPEÇÃO MUNICIPAL VIA CONSÓRCIO.
B8: S.I.M. | C8: =Cabeças!C9 -> 0
B9: Município: | C9: =Cabeças!C10 -> 0
B10: Mês/ano: | C10: =Cabeças!C11 -> 0
C12: MAPA NOSOGRÁFICO DE CARCAÇAS/VÍSCERAS DE BOVINOS
D13: Estômagos | H13: Pâncreas | J13: Mocotós | O13: Útero
B14: Dia | C14: Nº de bovinos abatidos | D14: Abscesso | E14: Congestão | F14: Contaminação | G14: Evisceração retardada | H14: Congestão | I14: Euitrematose | J14: Abscesso | K14: Contusão | L14: Neoplasia | M14: Miíase | N14: Pododermatite | O14: Gestação | P14: Metrite
B15: 1 | C15: =Cabeças!C16 -> 0
B16: 2 | C16: =Cabeças!C17 -> 0
B17: 3 | C17: =Cabeças!C18 -> 0
B18: 4 | C18: =Cabeças!C19 -> 0
B19: 5 | C19: =Cabeças!C20 -> 0
B20: 6 | C20: =Cabeças!C21 -> 0
B21: 7 | C21: =Cabeças!C22 -> 0
B22: 8 | C22: =Cabeças!C23 -> 0
B23: 9 | C23: =Cabeças!C24 -> 0
B24: 10 | C24: =Cabeças!C25 -> 0
B25: 11 | C25: =Cabeças!C26 -> 0
B26: 12 | C26: =Cabeças!C27 -> 0
... B45: 31 | C45: =Cabeças!C46 -> 0
B46: Subtotal | D46: =SUM(D15:D45) -> 0 | E46: =SUM(E15:E45) -> 0 | F46: =SUM(F15:F45) -> 0 | G46: =SUM(G15:G45) -> 0 | H46: =SUM(H15:H45) -> 0 | I46: =SUM(I15:I45) -> 0 | J46: =SUM(J15:J45) -> 0 | K46: =SUM(K15:K45) -> 0 | ... P46: =SUM(P15:P45) -> 0
B47: Total | C47: =SUM(C15:C45) -> 0 | D47: =SUM(D46:P46) -> 0

Sheet Carcaças
B7: E-mail: inspecao@mail.consorciovaledoriocuiaba.com.br - SITE: consorciovaledoriocuiaba.com.br - CNPJ 07.950.742/0001-27 SISTEMA DE INSPEÇÃO MUNICIPAL VIA CONSÓRCIO.
B8: S.I.M.
B9: Município:
B10: Mês/ano:
C12: MAPA NOSOGRÁFICO DE CARCAÇAS/VÍSCERAS DE BOVINOS
C13: Carcaças
B14: Dia | C14: Nº de bovinos abatidos | D14: Abscesso | E14: Adenite | F14: Aderência | G14: Bursite | H14: Caquexia | I14: Cisticercose calcificada | J14: Cisticercose generalizada | K14: Cisticercose viva | L14: Contaminação | M14: Contusão | N14: Dermatite | O14: Evisceração retardada | P14: Lesões supuradas | Q14: Linfadenite | R14: Magreza | S14: Neoplasia | T14: Tuberculose calcificada | U14: Tuberculose caseosa
B15: 1 | C15: =Cabeças!C16 -> 0
B16: 2 | C16: =Cabeças!C17 -> 0
B17: 3 | C17: =Cabeças!C18 -> 0
B18: 4 | C18: =Cabeças!C19 -> 0
B19: 5 | C19: =Cabeças!C20 -> 0
B20: 6 | C20: =Cabeças!C21 -> 0
B21: 7 | C21: =Cabeças!C22 -> 0
B22: 8 | C22: =Cabeças!C23 -> 0
B23: 9 | C23: =Cabeças!C24 -> 0
B24: 10 | C24: =Cabeças!C25 -> 0
B25: 11 | C25: =Cabeças!C26 -> 0
B26: 12 | C26: =Cabeças!C27 -> 0
... B45: 31 | C45: =Cabeças!C46 -> 0
B46: Subtotal | D46: =SUM(D15:D45) -> 0 | G46: =SUM(G15:G45) -> 0 | H46: =SUM(H15:H45) -> 0 | I46: =SUM(I15:I45) -> 0 | J46: =SUM(J15:J45) -> 0 | K46: =SUM(K15:K45) -> 0 | L46: =SUM(L15:L45) -> 0 | M46: =SUM(M15:M45) -> 0 | O46: =SUM(O15:O45) -> 0 | P46: =SUM(P15:P45) -> 0 | Q46: =SUM(Q15:Q45) -> 0 | R46: =SUM(R15:R45) -> 0 | S46: =SUM(S15:S45) -> 0 | U46: =SUM(U15:U45) -> 0
B47: Total | C47: =SUM(C15:C45) -> 0 | D47: =SUM(D46:U46) -> 0

Sheet Condenações
A8: E-mail: inspecao@mail.consorciovaledoriocuiaba.com.br - SITE: consorciovaledoriocuiaba.com.br - CNPJ 07.950.742/0001-27 SISTEMA DE INSPEÇÃO MUNICIPAL VIA CONSÓRCIO.
A9: S.I.M.
A10: Município:
A11: Mês/ano:
B13: PLANILHA DE CONDENAÇÕES TOTAL
C14: BOVINOS
A15: Dia | B15: Nº de bovinos abatidos | C15: Cabeças | D15: Linguas | E15: Pulmões | F15: Fígados | G15: Rins | H15: Corações | I15: Trato gastrointestinal/baco/ pâncreas/ bexiga e útero | J15: Carcaças | K15: Patas | L15: Lábios
A16: 1
A17: 2
A18: 3
A19: 4
A20: 5
A21: 6
A22: 7
A23: 8
A24: 9
A25: 10
A26: 11
A27: 12
... A46: 31
A47: Subtotal | B47: =SUM(B16:B46) -> 0 | C47: =SUM(C16:C46) -> 0 | D47: =SUM(D16:D46) -> 0 | E47: =SUM(E16:E46) -> 0 | F47: =SUM(F16:F46) -> 0 | G47: =SUM(G16:G46) -> 0 | H47: =SUM(H16:H46) -> 0 | I47: =SUM(I16:I46) -> 0 | ... M47: =SUM(M16:M46) -> 0
A48: Total | B48: =SUM(B16:B46) -> 0 | C48: =SUM(C47,D47, E47, F47,G47,H47,I47,J47,K47,L47,M47) -> 0
